BEGIN:VCALENDAR
VERSION:2.0
PRODID:-//hacksw/handcal//NONSGML v1.0//EN
BEGIN:VEVENT
SUMMARY:Match
UID:0d79031e-85ad-4b24-a49c-fedcf96e21c5
DTSTART:20260218T090000Z
DTEND:20260218T130000Z
LOCATION:Localisation   
CATEGORIES:Sportif
STATUS:
DESCRIPTION:Belle victoire de notre equipe ! Rendez-vous samedi pour
 le prochain match. 
URL;VALUE=URI:https://droupt-sainte-marie-fc.sportsregions.fr/evenements/2026/02/18/match-2417492
END:VEVENT
BEGIN:VEVENT
SUMMARY:Tournoi regional
UID:2ba151ef-96d1-467a-8101-84b99d29f8b2
DTSTART:20260218T090000Z
DTEND:20260218T130000Z
LOCATION:Localisation   
CATEGORIES:Sportif
STATUS:
DESCRIPTION:<p>Le tournoi regional organise par le club aura lieu sur
 le grand stade de la ville a partir de 14h.<br> Trois de nos equipes
 seront en lice dans la competition.
 </p><p>Les prix seront remis en
 soiree.</p>
URL;VALUE=URI:https://droupt-sainte-marie-fc.sportsregions.fr/evenements/2026/02/18/tournoi-regional-2417491
END:VEVENT
BEGIN:VEVENT
SUMMARY:Entrainement Equipe 1
UID:10d2ed59-433b-4536-8b83-6907cc245a33
DTSTART:20260218T180000Z
DTEND:20260218T200000Z
LOCATION:Localisation   
CATEGORIES:Entrainement
STATUS:
DESCRIPTION:Entrainement tactique pour l'equipe 1 ce soir au stade
 Municipal. 
URL;VALUE=URI:https://droupt-sainte-marie-fc.sportsregions.fr/evenements/2026/02/18/entrainement-equipe-1-2417493
END:VEVENT
END:VCALENDAR
